Workbook

Sheet Monitoringliste
B2: Antrag | D2: Bearbeitung | F2: Angaben zum Kunde | U2: Umsetzungspartner | AA2: Umsetzung | AC2: Massnahme | AG2: KPIs
D3: Person | E3: Status | F3: Endkunde | K3: Objekt/ Shop | N3: Ansprechperson | R3: Bankverbindung | AG3: Stromverbrauch Altanlage | AH3: Stromverbrauch Neuanlage | AI3: Jährliche Stromeinsparung | AJ3: Jährliche Stromeinsparung | AK3: Anrechenbare Einsparung über Laufzeit | AL3: Investitionskosten | AM3: Einsparung durch Massnahme | AN3: Payback | AO3: Förderhöhe | AP3: Förderanteil
B4: ID | C4: Datum | F4: Name | G4: Strasse | H4: Nummer | I4: PLZ | J4: Ort | K4: Name | L4: PLZ | M4: Ort | N4: Name, Vorname | O4: Funktion | P4: Mail | Q4: Telefon | R4: Kontoinhaber | S4: IBAN | T4: Finanzinstitut | U4: Name, Vorname | V4: Firma | W4: PLZ | X4: Ort | Y4: Mail | Z4: Telefon | AA4: Datum | AB4: Status | AC4: Hersteller | AD4: Typ der Massnahme | AE4: Erfüllung der Kriterien | AF4: Alter der Anlage | AG4: kWh/a | AH4: kWh/a | AI4: kWh/a | AJ4: % | AK4: kWh | AL4: CHF | AM4: CHF/a | AN4: a | AO4: CHF | AP4: %
C5: =TODAY() -> 46296 | E5: QS1 bestätigt | F5: ='Allgemeine Angaben'!C18 -> 0 | G5: ='Allgemeine Angaben'!C20 -> 0 | H5: ='Allgemeine Angaben'!C21 -> 0 | I5: ='Allgemeine Angaben'!C22 -> 0 | J5: ='Allgemeine Angaben'!C23 -> 0 | N5: ='Allgemeine Angaben'!C25 -> 0 | P5: ='Allgemeine Angaben'!C26 -> 0 | Q5: ='Allgemeine Angaben'!C27 -> 0 | R5: ='Allgemeine Angaben'!C32 -> 0 | S5: ='Allgemeine Angaben'!C33 -> 0 | T5: ='Allgemeine Angaben'!C34 -> 0 | U5: ='Allgemeine Angaben'!C12 -> 0 | V5: ='Allgemeine Angaben'!C13 -> 0 | Y5: ='Allgemeine Angaben'!C14 -> 0 | Z5: ='Allgemeine Angaben'!C15 -> 0 | AB5: reserviert | AC5: =V5 -> 0 | AE5: Ja | AF5: =Berechnungen!E10 -> 0 | AG5: =Berechnungen!E50 -> 0 | AH5: =Berechnungen!E51 -> 0 | AI5: =Berechnungen!E49 -> 0 | AJ5: =Berechnungen!E52 -> #DIV/0! | AK5: =AI5*15*0.75 -> 0 | AL5: =Berechnungen!E11 -> 0 | AM5: =Berechnungen!E57 -> 0 | AN5: =Berechnungen!E56 -> #DIV/0! | AO5: =Berechnungen!E54 -> 0 | AP5: =Berechnungen!E55 -> #DIV/0!

Sheet Förderbedingungen
B2: #VALUE!
B4: Förderbedingungen
B6: Förderberechtigt sind die folenden zwei Massnahmen: - «Direktersatz» für den Direktersatz pneumatischer Aktuatoren durch Elektrische in bestehenden industriellen Anlagen. Die industriellen Anlagen werden dabei nicht ersetzt. - «Integrierter Ersatz» für den integrierten Ersatz pneumatischer Aktuatoren durch Elektrische im Rahmen des Gesamtersatzes einer industriellen Anlage.
B7: Kriterien für den Direktersatz: - Der neue Aktuator wird elektrisch betrieben. - Der neue Aktuator erfüllt mindestens dieselben Prozessanforderungen bezogen auf die Bewegung, die Lastaufnahme und die Taktzeiten. - Durch den Ersatz entfällt der bisherige Druckluftverbrauch für diese Funktion vollständig.
B8: Kriterien für den integrierten Ersatz: - Eine- oder mehrere pneumatisch ausgeführte Funktionen der Altanlage werden durch elektrisch ausgeführte Funktionen ersetzt. - Die Neuanlage erfüllt mindestens dieselben Prozessanforderungen bezogen auf die Produktionsmenge. - Durch den Ersatz entfällt der bisherige Druckluftverbrauch für die betrachtete Funktion vollständig.
B9: Allgemeine Kriterien:
B10: Föderberechtigt sind alle industriellen Betriebe in der Schweiz, die Anlagen mit pneumatischen Aktuatoren betreiben.
B11: Die geltend gemachten Massnahmen dürfen nicht expliziter Bestandteil einer Zielvereinbarung mit dem Kanton, der Energie-Agentur der Wirtschaft (EnAW) oder der Cleantech-Agentur Schweiz (act) sein.
B12: Keine Doppelförderung: Es dürfen keine anderweitige Fördergelder vom Kanton oder Bund für die Massnahmen beantragt werden.
B13: Die Investitionskosten pro Kunde dürfen 300'000 CHF nicht übersteigen.
B14: Die Amortisationszeit (Payback) für eine Massnahme muss grösser 4 Jahre sein.
B16: Kontakt:
B17: aktuatorwatt@ebp.ch
B18: +41 44 395 11 97

Sheet Allgemeine Angaben
B2: #VALUE! | C2: #VALUE!
B5: Wirkungsmodell für den Anlagenersatz bei AktuatorWatt
B7: Eingaben erforderlich
B8: Keine Eingaben / Resultate
B10: Angaben zum Antragsstellenden
B11: Antragsstellender
B12: Name, Vorname
B13: Firma
B14: Mail
B15: Telefonnummer
B17: Angaben zum Endkunden
B18: Name des Betriebes
B19: Adresse des Betriebes (Ort der Massnahmenumsetzung)
... B27: Telefon
B28: Strompreis des Betriebes in Rp./kWh | C28: 15
B30: Angaben zum Fördermittelempfänger
B31: Fördermittelempfänger Der Antragsstellende kann anstelle vom Kunden die Fördermittel empfangen, wenn diese nachweisbar auf der Rechnung an den Enkunden abgezogen werden.
B32: Kontoinhaber
B33: IBAN
B34: Finanzinstitut
B36: Zusammenfassung aller Massnahmen
B37: Stromeinsparung in kWh | C37: =Berechnungen!E49 -> 0
B38: in % | C38: =Berechnungen!E52 -> #DIV/0!
B40: Einsparung durch Geräteersatz in CHF pro Jahr | C40: =Berechnungen!E57 -> 0
B41: Gesamtinvestitionskosten | C41: {=Berechnungen!E11:F11} -> 0 | D41: 0
B42: Payback (Return on Investment, in Jahren) | C42: =Berechnungen!E56 -> #DIV/0! | H42: maximale Förderhöhe
B44: Voraussichtliche Förderhöhe in Fr. | C44: =Berechnungen!E54 -> 0 | H44: =IF(D19<=7.5,40,IF(AND(7.5<D19,D19<=15),(40-15*(D19/7.5-1)),15)) -> 40
B45: in % der Investitionskosten | C45: =Berechnungen!E55 -> #DIV/0!
B48: Teilnahmebedingungen
B50: Mit dem Einreichen des Antrags bestätigt der Antragstellende die Kenntnisnahme und Einhaltung der Förderbedingungen (siehe Blatt "Förderbedingungen")
B51: Mit dem Einreichen des Antrags stimmt der Antragstellende zur elektronischen Speicherung und Kommunikation der Informationen zu.
B52: Datum:
B54: E-Mail an:
B55: aktuatorwatt@ebp.ch
B57: Telefon:
B58: +41 44 395 11 97

Sheet Berechnungen
B2: Wirkungsmodell für den Direktersatz von Aktuatoren im Förderprogramm "AktuatorWatt" | M2: #VALUE!
B4: Eingaben erforderlich
B5: Keine Eingaben / Resultate
B7: Allgemeine Angaben
D8: Einheit | E8: Wert
B9: Betriebsstunden der Anlage pro Jahr | D9: h/a
B10: Alter der Altanlage | D10: a
B11: Total Investitionskosten der Neuanlage inkl. Montage und MwSt | D11: CHF
B12: Druckluftnetz
B13: Systemdruck (p1) | D13: bar
B14: Druck auf Anlage (p2) | D14: bar
B15: Schlauchinnendruchmesser | D15: mm
B16: Schlauchlänge Ventil - Zylinder | D16: mm
B17: Umwandlungskoeffizient | D17: kWh/m^3 | E17: 0.12
B18: Druckluftverlust durch Leckagen | D18: % | E18: 0.25
B19: ="Wirkungsgrad Druckreduzierventil von "&E13&" zu "&E14&" bar" -> Wirkungsgrad Druckreduzierventil von zu bar | D19: % | E19: =1+LN(($E$14+1)/($E$13+1)) -> 1
B20: Fördersatz AktuatorWatt | D20: CHF/MWh | E20: 184
B23: Pneumatische Aktuatoren
B24: Ersatz | C24: Bezeichnung | E24: Hub | F24: Zylinderdurchmesser | G24: Kolbenstangendurch-messer | H24: Takte pro Minute (Ein-& Ausfahren) | I24: Anzahl | J24: Takte pro Jahr | K24: Druckluftbedarf pro Takt | L24: Druckluftbedarf pro Jahr | M24: Jährlicher Stromverbrauch
E25: mm | F25: mm | G25: mm | H25: 1/min | J25: T/Jahr | K25: mm^3/T | L25: m^3/Jahr | M25: kWh/Jahr
B26: 1 | J26: =$E$9*H26*60 -> 0 | K26: =(((PI()/4)*(2*F26^2-G26^2)*E26+2*(PI()/4)*($E$15^2*$E$16))*($E$14+1))*I26 -> 0 | L26: =(J26*K26)/10^9 -> 0 | M26: =(L26*E$17)/($E$19*(1-$E$18)) -> 0
B27: 2 | J27: =$E$9*H27*60 -> 0 | K27: =(((PI()/4)*(2*F27^2-G27^2)*E27+2*(PI()/4)*($E$15^2*$E$16))*($E$14+1))*I27 -> 0 | L27: =(J27*K27)/10^9 -> 0 | M27: =(L27*E$17)/($E$19*(1-$E$18)) -> 0
B28: 3 | J28: =$E$9*H28*60 -> 0 | K28: =(((PI()/4)*(2*F28^2-G28^2)*E28+2*(PI()/4)*($E$15^2*$E$16))*($E$14+1))*I28 -> 0 | L28: =(J28*K28)/10^9 -> 0 | M28: =(L28*E$17)/($E$19*(1-$E$18)) -> 0
B29: 4 | J29: =$E$9*H29*60 -> 0 | K29: =(((PI()/4)*(2*F29^2-G29^2)*E29+2*(PI()/4)*($E$15^2*$E$16))*($E$14+1))*I29 -> 0 | L29: =(J29*K29)/10^9 -> 0 | M29: =(L29*E$17)/($E$19*(1-$E$18)) -> 0
B30: 5 | J30: =$E$9*H30*60 -> 0 | K30: =(((PI()/4)*(2*F30^2-G30^2)*E30+2*(PI()/4)*($E$15^2*$E$16))*($E$14+1))*I30 -> 0 | L30: =(J30*K30)/10^9 -> 0 | M30: =(L30*E$17)/($E$19*(1-$E$18)) -> 0
B31: 6 | J31: =$E$9*H31*60 -> 0 | K31: =(((PI()/4)*(2*F31^2-G31^2)*E31+2*(PI()/4)*($E$15^2*$E$16))*($E$14+1))*I31 -> 0 | L31: =(J31*K31)/10^9 -> 0 | M31: =(L31*E$17)/($E$19*(1-$E$18)) -> 0
B32: 7 | J32: =$E$9*H32*60 -> 0 | K32: =(((PI()/4)*(2*F32^2-G32^2)*E32+2*(PI()/4)*($E$15^2*$E$16))*($E$14+1))*I32 -> 0 | L32: =(J32*K32)/10^9 -> 0 | M32: =(L32*E$17)/($E$19*(1-$E$18)) -> 0
B33: 8 | J33: =$E$9*H33*60 -> 0 | K33: =(((PI()/4)*(2*F33^2-G33^2)*E33+2*(PI()/4)*($E$15^2*$E$16))*($E$14+1))*I33 -> 0 | L33: =(J33*K33)/10^9 -> 0 | M33: =(L33*E$17)/($E$19*(1-$E$18)) -> 0
B35: Elektrische Aktuatoren
B36: Ersatz | C36: Bezeichnung | D36: Typ | E36: Hub | F36: Kraft | G36: Wirkungsgrad Elektrozylinder | H36: Takte pro Minute (Ein-& Ausfahren) | I36: Anzahl | J36: Takte pro Jahr | K36: Stromverbrauch pro Takt | M36: Jährlicher Stromverbrauch
E37: mm | F37: N | G37: % | H37: 1/min | J37: T/Jahr | K37: kWh | M37: kWh/Jahr
B38: 1 | E38: =IF(E26="","",E26) | H38: =IF(H26="","",H26) | I38: =IF(I26="","",I26) | J38: =IFERROR($E$9*H38*60,"") | K38: =IFERROR((((F38*E38*2*(1/1000))/Berechnungen!G38)*(1/3600000))*I38,"") | M38: =IFERROR(K38*J38,"")
B39: 2 | E39: =IF(E27="","",E27) | H39: =IF(H27="","",H27) | I39: =IF(I27="","",I27) | J39: =IFERROR($E$9*H39*60,"") | K39: =IFERROR((((F39*E39*2*(1/1000))/Berechnungen!G39)*(1/3600000))*I39,"") | M39: =IFERROR(K39*J39,"")
B40: 3 | E40: =IF(E28="","",E28) | H40: =IF(H28="","",H28) | I40: =IF(I28="","",I28) | J40: =IFERROR($E$9*H40*60,"") | K40: =IFERROR((((F40*E40*2*(1/1000))/Berechnungen!G40)*(1/3600000))*I40,"") | M40: =IFERROR(K40*J40,"")
B41: 4 | E41: =IF(E29="","",E29) | H41: =IF(H29="","",H29) | I41: =IF(I29="","",I29) | J41: =IFERROR($E$9*H41*60,"") | K41: =IFERROR((((F41*E41*2*(1/1000))/Berechnungen!G41)*(1/3600000))*I41,"") | M41: =IFERROR(K41*J41,"")
B42: 5 | E42: =IF(E30="","",E30) | H42: =IF(H30="","",H30) | I42: =IF(I30="","",I30) | J42: =IFERROR($E$9*H42*60,"") | K42: =IFERROR((((F42*E42*2*(1/1000))/Berechnungen!G42)*(1/3600000))*I42,"") | M42: =IFERROR(K42*J42,"")
B43: 6 | E43: =IF(E31="","",E31) | H43: =IF(H31="","",H31) | I43: =IF(I31="","",I31) | J43: =IFERROR($E$9*H43*60,"") | K43: =IFERROR((((F43*E43*2*(1/1000))/Berechnungen!G43)*(1/3600000))*I43,"") | M43: =IFERROR(K43*J43,"")
B44: 7 | E44: =IF(E32="","",E32) | H44: =IF(H32="","",H32) | I44: =IF(I32="","",I32) | J44: =IFERROR($E$9*H44*60,"") | K44: =IFERROR((((F44*E44*2*(1/1000))/Berechnungen!G44)*(1/3600000))*I44,"") | M44: =IFERROR(K44*J44,"")
B45: 8 | E45: =IF(E33="","",E33) | H45: =IF(H33="","",H33) | I45: =IF(I33="","",I33) | J45: =IFERROR($E$9*H45*60,"") | K45: =IFERROR((((F45*E45*2*(1/1000))/Berechnungen!G45)*(1/3600000))*I45,"") | M45: =IFERROR(K45*J45,"")
B47: Zusammenfassung
...

Sheet Beispiel
B2: Wirkungsmodell für den Direktersatz von Aktuatoren im Förderprogramm "AktuatorWatt" | M2: #VALUE!
B4: Eingaben erforderlich
B5: Keine Eingaben / Resultate
B7: Allgemeine Angaben
D8: Einheit | E8: Wert
B9: Betriebsstunden der Anlage pro Jahr | D9: h/a | E9: 4500
B10: Total Investitionskosten der Neuanlage inkl. Montage und MwSt | D10: CHF | E10: 15000
B11: Druckluftnetz
B12: Systemdruck (p1) | D12: bar | E12: 7
B13: Druck auf Anlage (p2) | D13: bar | E13: 4
B14: Schlauchinnendruchmesser | D14: mm | E14: 4
B15: Schlauchlänge Ventil - Zylinder | D15: mm | E15: 1000
B16: Umwandlungskoeffizient | D16: kWh/m^3 | E16: 0.12
B17: Druckluftverlust durch Leckagen | D17: % | E17: 0.25
B18: ="Wirkungsgrad Druckreduzierventil von "&E12&" zu "&E13&" bar" -> Wirkungsgrad Druckreduzierventil von 7 zu 4 bar | D18: % | E18: =1+LN(($E$13+1)/($E$12+1)) -> 0.52999637
B19: Fördersatz AktuatorWatt | D19: CHF/MWh | E19: 184
B22: Pneumatische Aktuatoren
B23: Ersatz | C23: Bezeichnung | E23: Hub | F23: Zylinderdurchmesser | G23: Kolbenstangendurch-messer | H23: Takte pro Minute (Ein-& Ausfahren) | I23: Anzahl | J23: Takte pro Jahr | K23: Druckluftbedarf pro Takt | L23: Druckluftbedarf pro Jahr | M23: Jährlicher Stromverbrauch
E24: mm | F24: mm | G24: mm | H24: 1/min | J24: Takt/Jahr | K24: mm^3/Takt | L24: m^3/Jahr | M24: kWh/Jahr
B25: 1 | C25: XYZ | E25: 50 | F25: 50 | G25: 20 | H25: 10 | I25: 5 | J25: =$E$9*H25*60 -> 2700000 | K25: =(((PI()/4)*(2*F25^2-G25^2)*E25+2*(PI()/4)*($E$14^2*$E$15))*($E$13+1))*I25 -> 5144358 | L25: =(J25*K25)/10^9 -> 13889.767 | M25: =(L25*E$16)/($E$18*(1-$E$17)) -> 4193.1658
B26: 2 | C26: XYZ | E26: 100 | F26: 50 | G26: 20 | H26: 10 | I26: 6 | J26: =$E$9*H26*60 -> 2700000 | K26: =(((PI()/4)*(2*F26^2-G26^2)*E26+2*(PI()/4)*($E$14^2*$E$15))*($E$13+1))*I26 -> 11592477 | L26: =(J26*K26)/10^9 -> 31299.688 | M26: =(L26*E$16)/($E$18*(1-$E$17)) -> 9449.027
B27: 3 | C27: XYZ | E27: 165 | F27: 50 | G27: 20 | H27: 10 | I27: 2 | J27: =$E$9*H27*60 -> 2700000 | K27: =(((PI()/4)*(2*F27^2-G27^2)*E27+2*(PI()/4)*($E$14^2*$E$15))*($E$13+1))*I27 -> 6212499.5 | L27: =(J27*K27)/10^9 -> 16773.749 | M27: =(L27*E$16)/($E$18*(1-$E$17)) -> 5063.8078
B28: 4 | J28: =$E$9*H28*60 -> 0 | K28: =(((PI()/4)*(2*F28^2-G28^2)*E28+2*(PI()/4)*($E$14^2*$E$15))*($E$13+1))*I28 -> 0 | L28: =(J28*K28)/10^9 -> 0 | M28: =(L28*E$16)/($E$18*(1-$E$17)) -> 0
B29: 5 | J29: =$E$9*H29*60 -> 0 | K29: =(((PI()/4)*(2*F29^2-G29^2)*E29+2*(PI()/4)*($E$14^2*$E$15))*($E$13+1))*I29 -> 0 | L29: =(J29*K29)/10^9 -> 0 | M29: =(L29*E$16)/($E$18*(1-$E$17)) -> 0
B30: 6 | J30: =$E$9*H30*60 -> 0 | K30: =(((PI()/4)*(2*F30^2-G30^2)*E30+2*(PI()/4)*($E$14^2*$E$15))*($E$13+1))*I30 -> 0 | L30: =(J30*K30)/10^9 -> 0 | M30: =(L30*E$16)/($E$18*(1-$E$17)) -> 0
B31: 7 | J31: =$E$9*H31*60 -> 0 | K31: =(((PI()/4)*(2*F31^2-G31^2)*E31+2*(PI()/4)*($E$14^2*$E$15))*($E$13+1))*I31 -> 0 | L31: =(J31*K31)/10^9 -> 0 | M31: =(L31*E$16)/($E$18*(1-$E$17)) -> 0
B32: 8 | J32: =$E$9*H32*60 -> 0 | K32: =(((PI()/4)*(2*F32^2-G32^2)*E32+2*(PI()/4)*($E$14^2*$E$15))*($E$13+1))*I32 -> 0 | L32: =(J32*K32)/10^9 -> 0 | M32: =(L32*E$16)/($E$18*(1-$E$17)) -> 0
B34: Elektrische Aktuatoren
B35: Ersatz | C35: Bezeichnung | D35: Typ | E35: Hub | F35: Kraft | G35: Wirkungsgrad Elektrozylinder | H35: Takte pro Minute (Ein-& Ausfahren) | I35: Anzahl | J35: Takte pro Jahr | K35: Stromverbrauch pro Takt | M35: Jährlicher Stromverbrauch
E36: mm | F36: N | G36: % | H36: 1/min | J36: T/Jahr | K36: kWh | M36: kWh/Jahr
B37: 1 | C37: ZYX | D37: Trapezgewindetrieb | E37: =IF(E25="","",E25) -> 50 | F37: 100 | G37: 0.7 | H37: =IF(H25="","",H25) -> 10 | I37: =IF(I25="","",I25) -> 5 | J37: =IFERROR($E$9*H37*60,"") -> 2700000 | K37: =IFERROR((((F37*E37*2*(1/1000))/Beispiel!G37)*(1/3600000))*I37,"") -> 1.984127e-05 | M37: =IFERROR(K37*J37,"") -> 53.571429
B38: 2 | C38: ZYX | D38: Trapezgewindetrieb | E38: =IF(E26="","",E26) -> 100 | F38: 100 | G38: 0.7 | H38: =IF(H26="","",H26) -> 10 | I38: =IF(I26="","",I26) -> 6 | J38: =IFERROR($E$9*H38*60,"") -> 2700000 | K38: =IFERROR((((F38*E38*2*(1/1000))/Beispiel!G38)*(1/3600000))*I38,"") -> 4.7619048e-05 | M38: =IFERROR(K38*J38,"") -> 128.57143
B39: 3 | C39: ZYX | D39: Trapezgewindetrieb | E39: =IF(E27="","",E27) -> 165 | F39: 100 | G39: 0.7 | H39: =IF(H27="","",H27) -> 10 | I39: =IF(I27="","",I27) -> 2 | J39: =IFERROR($E$9*H39*60,"") -> 2700000 | K39: =IFERROR((((F39*E39*2*(1/1000))/Beispiel!G39)*(1/3600000))*I39,"") -> 2.6190476e-05 | M39: =IFERROR(K39*J39,"") -> 70.714286
B40: 4 | E40: =IF(E28="","",E28) | H40: =IF(H28="","",H28) | I40: =IF(I28="","",I28) | J40: =IFERROR($E$9*H40*60,"") | K40: =IFERROR((((F40*E40*2*(1/1000))/Beispiel!G40)*(1/3600000))*I40,"") | M40: =IFERROR(K40*J40,"")
B41: 5 | E41: =IF(E29="","",E29) | H41: =IF(H29="","",H29) | I41: =IF(I29="","",I29) | J41: =IFERROR($E$9*H41*60,"") | K41: =IFERROR((((F41*E41*2*(1/1000))/Beispiel!G41)*(1/3600000))*I41,"") | M41: =IFERROR(K41*J41,"")
B42: 6 | E42: =IF(E30="","",E30) | H42: =IF(H30="","",H30) | I42: =IF(I30="","",I30) | J42: =IFERROR($E$9*H42*60,"") | K42: =IFERROR((((F42*E42*2*(1/1000))/Beispiel!G42)*(1/3600000))*I42,"") | M42: =IFERROR(K42*J42,"")
B43: 7 | E43: =IF(E31="","",E31) | H43: =IF(H31="","",H31) | I43: =IF(I31="","",I31) | J43: =IFERROR($E$9*H43*60,"") | K43: =IFERROR((((F43*E43*2*(1/1000))/Beispiel!G43)*(1/3600000))*I43,"") | M43: =IFERROR(K43*J43,"")
B44: 8 | E44: =IF(E32="","",E32) | H44: =IF(H32="","",H32) | I44: =IF(I32="","",I32) | J44: =IFERROR($E$9*H44*60,"") | K44: =IFERROR((((F44*E44*2*(1/1000))/Beispiel!G44)*(1/3600000))*I44,"") | M44: =IFERROR(K44*J44,"")
B46: Zusammenfassung
D47: Einheit | E47: Wert
...
