Workbook

Sheet Monitoringliste
B2: Antrag | D2: Bearbeitung | F2: Angaben zum Kunde | U2: Umsetzungspartner | AA2: Umsetzung | AC2: Massnahme | AF2: KPIs
D3: Person | E3: Status | F3: Endkunde | K3: Objekt/ Shop | N3: Ansprechperson | R3: Bankverbindung | AF3: Stromverbrauch Altanlage | AG3: Stromverbrauch Neuanlage | AH3: Jährliche Stromeinsparung | AI3: Jährliche Stromeinsparung | AJ3: Anrechenbare Einsparung über Laufzeit | AK3: Investitionskosten | AL3: Einsparung durch Massnahme | AM3: Payback | AN3: Förderhöhe | AO3: Förderanteil
B4: ID | C4: Datum | F4: Name | G4: Strasse | H4: Nummer | I4: PLZ | J4: Ort | K4: Name | L4: PLZ | M4: Ort | N4: Name, Vorname | O4: Funktion | P4: Mail | Q4: Telefon | R4: Kontoinhaber | S4: IBAN | T4: Finanzinstitut | U4: Name, Vorname | V4: Firma | W4: PLZ | X4: Ort | Y4: Mail | Z4: Telefon | AA4: Datum | AB4: Status | AC4: Massnahme | AD4: Wirkungsmodell | AE4: Erfüllung der Förderbedingungen | AF4: kWh/a | AG4: kWh/a | AH4: kWh/a | AI4: % | AJ4: kWh | AK4: CHF | AL4: CHF/a | AM4: a | AN4: CHF | AO4: %
C5: =TODAY() -> 46304 | E5: QS1 bestätigt | F5: ='Allgemeine Angaben'!C17 -> 0 | G5: ='Allgemeine Angaben'!C19 -> 0 | H5: ='Allgemeine Angaben'!C20 -> 0 | I5: ='Allgemeine Angaben'!C21 -> 0 | J5: ='Allgemeine Angaben'!C22 -> 0 | N5: ='Allgemeine Angaben'!C24 -> 0 | P5: ='Allgemeine Angaben'!C25 -> 0 | Q5: ='Allgemeine Angaben'!C26 -> 0 | U5: ='Allgemeine Angaben'!C11 -> 0 | V5: ='Allgemeine Angaben'!C12 -> 0 | Y5: ='Allgemeine Angaben'!C13 -> 0 | Z5: ='Allgemeine Angaben'!C14 -> 0 | AB5: reserviert | AC5: Systemersatz Lackieranlage | AD5: Wirkungsmodell Lackieranlagen | AF5: =Systemersatz_Lackieranlage!D32 -> #DIV/0! | AG5: =Systemersatz_Lackieranlage!F32 -> #DIV/0! | AH5: =Systemersatz_Lackieranlage!C38 -> #DIV/0! | AI5: =Systemersatz_Lackieranlage!C39 -> #DIV/0! | AJ5: =AH5*15*0.75 -> #DIV/0! | AK5: =Systemersatz_Lackieranlage!F35 -> 0 | AL5: =Systemersatz_Lackieranlage!C42 -> #DIV/0! | AM5: =Systemersatz_Lackieranlage!C43 -> #DIV/0! | AN5: =Systemersatz_Lackieranlage!C45 -> #DIV/0! | AO5: =Systemersatz_Lackieranlage!C46 -> #DIV/0!

Sheet Allgemeine Angaben
B2: #VALUE! | C2: #VALUE!
B5: Wirkungsmodell für den Anlagenersatz bei ColorWatt
B7: Eingaben erforderlich
B8: Keine Eingaben / Resultate
B10: Angaben zum Verkaufsberater
B11: Name, Vorname
B12: Firma
B13: Mail
B14: Telefonnummer
B16: Angaben zum Endkunden
B17: Name des Betriebes
B18: Adresse des Betriebes
B19: Strasse
... B26: Telefon
B27: Strompreis des Betriebes in Rp./kWh | C27: 15
B29: Zusammenfassung aller Massnahmen
B30: Stromeinsparung in kWh | C30: =Systemersatz_Lackieranlage!C38 -> #DIV/0!
B31: in % | C31: =Systemersatz_Lackieranlage!C39 -> #DIV/0!
B33: Einsparung durch Geräteersatz in CHF pro Jahr | C33: =Systemersatz_Lackieranlage!C42 -> #DIV/0!
B34: Gesamtinvestitionskosten | C34: =Systemersatz_Lackieranlage!F35 -> 0
B35: Payback (Return on Investment, in Jahren) | C35: =Systemersatz_Lackieranlage!C43 -> #DIV/0! | H35: maximale Förderhöhe
B37: Voraussichtliche Förderhöhe in Fr. | C37: =Systemersatz_Lackieranlage!C45 -> #DIV/0! | H37: =IF(D18<=7.5,40,IF(AND(7.5<D18,D18<=15),(40-15*(D18/7.5-1)),15)) -> 40
B38: in % der Investitionskosten | C38: =Systemersatz_Lackieranlage!C46 -> #DIV/0!
B41: Teilnahmebedingungen
B43: Die geltend gemachten Massnahmen (Geräteersatz) dürfen nicht expliziter Bestandteil einer Zielvereinbarung mit dem Kanton, der Energie-Agentur der Wirtschaft (EnAW) oder der Cleantech-Agentur Schweiz (act) sein.
B44: Keine Doppelförderung: Es werden keine anderweitigen Fördergelder vom Kanton oder Bund für die Massnahmen (Geräteersatz) beantragt.
B45: Mit dem Einreichen des Antrags bestätigt der Antragstellende die Kenntnisnahme und Einhaltung der Förderbedingungen sowie der geltenden Effizienzkriterien.
B46: Datum:
B48: E-Mail an:
B49: colorwatt@ebp.ch
B51: Telefon:
B52: +41 44 395 11 97

Sheet Systemersatz_Lackieranlage
B2: Wirkungsmodell für den Lackieranlagen-Systemersatz bei ColorWatt
B4: Eingaben erforderlich
B5: Keine Eingaben / Resultate
B7: Effizienzkriterien
B8: Beleuchtung: Der spezifische Elektrizitätsbedarf ist kleiner als 33 kWh/m2 (bei einer Tageslichtnutzung von 0%). | F8: Nein
B9: Ventilatoren: Ventilatoren haben eine Leistung grösser 125 Watt. Ventilatoren sind über einen Frequenzumrichter geregelt. Der Effizienzgrad N gemäss Verordnung (EU) Nr. 327/2011 entspricht den folgenden Werten: - Axialventilator, Messkategorie "A,C", Effizienzkategorie "statisch", Effizienzgrad N >= 50 - Axialventilator, Messkategorie "B,D", Effizienzkategorie "total", Effizienzgrad N >= 64 - Radial- und Diagonalventilator, Messkategorie "A,C", Effizienzkategorie "statisch", Effizienzgrad N >= 62 - Radial- und Diagonalventilator, Messkategorie "B,D", Effizienzkategorie "total", Effizienzgrad N >= 65
B10: Elektromotoren: - Motoren 0.12 kW - 0.75 kW mit Effizienzklasse IE3 oder besser - Motoren 0.75 kW - 1000 kW mit Effizienzklasse IE4 oder besser
B11: Wärmerückgewinnung: Wärmerückgewinnung aus der Abluft findet statt.
B12: Sparschaltung: Eine Sparschaltung ist vorhanden und passt die Leistungsaufnahme je nach Betriebsmodus an.
D14: Angaben zur alten Maschine | F14: Angaben zur neuen Maschine
B15: Anlagen-, Maschinenmodell (genaue Modellbezeichnung)
B16: System-Anschlussleistung (Summe aller relevanten Stromverbraucher) [kW]
B17: Nur gültig, wenn keine Angaben zur Anschlussleistung der Altanlage verfügbar sind. | D17: Anschlussstrom [A] | E17: Anschlussspannung [V]
B19: Verwendete System-Anschlussleistung [kW] | D19: =IF(ISBLANK(D16),(SQRT(3)*D18*E18*0.75)/1000,D16) -> 0 | F19: =F16 -> 0
B20: Betrieb in Wochen pro Jahr
B21: Anzahl Schichten pro Tag (1, 2 oder 3)
B22: Bearbeitete Fläche in m2 pro Woche
B23: Lastprofil | D23: Betriebsanteil an Volllast | E23: Zeitanteil | F23: Betriebsanteil an Volllast | G23: Zeitanteil
B24: 1
B25: 2
B26: 3
B27: 4
B28: 5
B29: 6
B30: Volllaststunden | D30: =40*D20*D21 -> 0 | F30: =40*D20*D21 -> 0
B31: Betriebsstunden | D31: =D30*E24*D24+D30*E25*D25+D30*E26*D26+D30*E27*D27+D30*D28*E28+D30*D29*E29 -> 0 | F31: =F30*G24*F24+F30*G25*F25+F30*G26*F26+F30*G27*F27+F30*F28*G28+F30*F29*G29 -> 0
B32: Verbrauch in kWh (pro Jahr) | D32: =D33*D22 -> #DIV/0! | F32: =F33*D22 -> #DIV/0!
B33: Stromverbrauch der Maschine in kWh/m2 | D33: =(D19*D31)/$D22 -> #DIV/0! | F33: =(F19*F31)/$F22 -> #DIV/0!
B35: Total Investitionskosten der Neuanlage inkl. Montage und MwSt, Total in CHF Bei Kapazitätserhöhung damit verbundene Investitionskosten anteilig herauskürzen.
B37: Zusammenfassung Massnahme
B38: Stromeinsparung in kWh pro Jahr | C38: =D32-F32 -> #DIV/0!
B39: in % | C39: =1-F32/D32 -> #DIV/0!
B40: Fördersatz CHF / MWh | C40: 225
B42: Einsparung durch Geräteersatz in CHF pro Jahr | C42: =C38*(15/100) -> #DIV/0!
B43: Payback (Return on Investment, in Jahren) | C43: =F35/C42 -> #DIV/0! | D43: muss grösser als 4 Jahre sein!
B45: Total Voraussichtliche Förderhöhe in Fr. | C45: =IF((C38/1000*C40)>(F35*0.3),(F35*0.3),(C38/1000*C40)) -> #DIV/0!
B46: in % der Investitionskosten | C46: =C45/F35 -> #DIV/0!
